BEGIN:VCALENDAR
VERSION:2.0
PRODID:-//wp-events-plugin.com//7.2.2.1//EN
TZID:Europe/Berlin
X-WR-TIMEZONE:Europe/Berlin
BEGIN:VEVENT
UID:6@grahambonney.de
DTSTART;TZID=Europe/Berlin:20241201T160000
DTEND;TZID=Europe/Berlin:20241201T200000
DTSTAMP:20240808T091919Z
URL:https://grahambonney.de/va_details/38-starpyramide-live-2/
SUMMARY:So 01.12.2024 Die 38. STARPYRAMIDE -live-
DESCRIPTION:
ATTACH;FMTTYPE=image/jpeg:https://grahambonney.de/wp-content/uploads/2024/
 07/Starpyramide-Plakat-klein-317x445-1.jpg
LOCATION:Friedrich-Ebert-Halle\, Alter Postweg 34\, 21075 HAMBURG-HARBURG\,
  Deutschland
X-APPLE-STRUCTURED-LOCATION;VALUE=URI;X-ADDRESS=Alter Postweg 34\, 21075 HA
 MBURG-HARBURG\, Deutschland;X-APPLE-RADIUS=100;X-TITLE=Friedrich-Ebert-Hal
 le:geo:0,0
END:VEVENT
BEGIN:VTIMEZONE
TZID:Europe/Berlin
X-LIC-LOCATION:Europe/Berlin
BEGIN:STANDARD
DTSTART:20241027T020000
TZOFFSETFROM:+0200
TZOFFSETTO:+0100
TZNAME:CET
END:STANDARD
END:VTIMEZONE
END:VCALENDAR